BEGIN:VCALENDAR
VERSION:2.0
PRODID:-//Bradeur.fr//FR
CALSCALE:GREGORIAN
METHOD:PUBLISH
BEGIN:VEVENT
UID:807-3-24-97-84-56-46-vide-greniers@bradeur.fr
DTSTAMP:20260425T205409Z
DTSTART:20260503T070000
DTEND:20260503T150000
SUMMARY:+3 24 97 84 56 46 — Vide-greniers
DESCRIPTION:Site officiel de la Ville de Tournai. Retrouvez les information
 s sur les services de la commune ainsi que l'ABC des démarches.\n\nDimanch
 e 3 Mai 2026\nde 7h00 à 15h00\n\n+3 24 97 84 56 46\nLamain
LOCATION:Lamain
URL:https://bradeur.fr/braderie.php?slug=3-24-97-84-56-46-vide-greniers
END:VEVENT
END:VCALENDAR
