BEGIN:VCALENDAR
VERSION:2.0
PRODID:-//Bradeur.fr//FR
CALSCALE:GREGORIAN
METHOD:PUBLISH
BEGIN:VEVENT
UID:710-a-creafil-gmail-com-atelier-creafil-couture@bradeur.fr
DTSTAMP:20260425T180435Z
DTSTART:20260419T090000
DTEND:20260419T170000
SUMMARY:a.creafil@gmail.com — Atelier Creafil Couture
DESCRIPTION:Dimanche 19 Avril 2026\nde 9h00 à 17h00\n\na.creafil@gmail.com
 \n59144 Jenlain
LOCATION:59144 Jenlain
URL:https://bradeur.fr/braderie.php?slug=a-creafil-gmail-com-atelier-creafi
 l-couture
END:VEVENT
END:VCALENDAR
