BEGIN:VCALENDAR
VERSION:2.0
PRODID:-//Bradeur.fr//FR
CALSCALE:GREGORIAN
METHOD:PUBLISH
BEGIN:VEVENT
UID:984-aclw-association-culture-et-loisirs-vide-greniers@bradeur.fr
DTSTAMP:20260425T191727Z
DTSTART:20260627T070000
DTEND:20260627T170000
SUMMARY:ACLW association culture et loisirs — Vide-greniers
DESCRIPTION:Mairie de Wingles 26, rue Jules Guesde BP 60065 62410 Wingles. 
 T: +33 (0)3.21.08.69.00. Horaires. Lundi : 9h-12h / 13h30-17h30\n\nSamedi 2
 7 Juin 2026\nde 7h00 à 17h00\n\nACLW association culture et loisirs\n62410
  Wingles
LOCATION:62410 Wingles
URL:https://bradeur.fr/braderie.php?slug=aclw-association-culture-et-loisir
 s-vide-greniers
END:VEVENT
END:VCALENDAR
