BEGIN:VCALENDAR
VERSION:2.0
PRODID:-//Bradeur.fr//FR
CALSCALE:GREGORIAN
METHOD:PUBLISH
BEGIN:VEVENT
UID:1066-adasp-amicale-des-anciens-sapeurs-pompiers-vide-greniers-1@bradeur
 .fr
DTSTAMP:20260425T180846Z
DTSTART:20260906T070000
DTEND:20260906T160000
SUMMARY:ADASP Amicale Des Anciens Sapeurs Pompiers — Vide-greniers
DESCRIPTION:Accès rapide AGENDA Ne ratez pas nos évènements ! Vous souha
 itez voir les actualités sur Facebook ACTUALITÉ d’Aix-Noulette\n\nDiman
 che 6 Septembre 2026\nde 7h00 à 16h00\n\nADASP Amicale Des Anciens Sapeurs
  Pompiers\n62160 Aix Noulette
LOCATION:62160 Aix Noulette
URL:https://bradeur.fr/braderie.php?slug=adasp-amicale-des-anciens-sapeurs-
 pompiers-vide-greniers-1
END:VEVENT
END:VCALENDAR
