BEGIN:VCALENDAR
VERSION:2.0
PRODID:-//Bradeur.fr//FR
CALSCALE:GREGORIAN
METHOD:PUBLISH
BEGIN:VEVENT
UID:586-adel-adel-bourse@bradeur.fr
DTSTAMP:20260425T175709Z
DTSTART:20260329T093000
DTEND:20260329T153000
SUMMARY:ADEL — Adel Bourse
DESCRIPTION:Dimanche 29 Mars 2026\nde 9h30 à 15h30\n\nADEL\n16370 Linars
LOCATION:16370 Linars
URL:https://bradeur.fr/braderie.php?slug=adel-adel-bourse
END:VEVENT
END:VCALENDAR
