BEGIN:VCALENDAR
VERSION:2.0
PRODID:-//Bradeur.fr//FR
CALSCALE:GREGORIAN
METHOD:PUBLISH
BEGIN:VEVENT
UID:636-adsb-wasquehal-puces@bradeur.fr
DTSTAMP:20260425T204220Z
DTSTART:20260411T080000
DTEND:20260411T150000
SUMMARY:ADSB Wasquehal — Puces
DESCRIPTION:Bienvenue sur le site officielle de la Ville de Wasquehal. Info
 rmations pratiques, démarches en ligne, actualités vous y attendent !\n\n
 Samedi 11 Avril 2026\nde 8h00 à 15h00\n\nADSB Wasquehal\n59290 Wasquehal
LOCATION:59290 Wasquehal
URL:https://bradeur.fr/braderie.php?slug=adsb-wasquehal-puces
END:VEVENT
END:VCALENDAR
