BEGIN:VCALENDAR
VERSION:2.0
PRODID:-//Bradeur.fr//FR
CALSCALE:GREGORIAN
METHOD:PUBLISH
BEGIN:VEVENT
UID:978-adsl-brocante@bradeur.fr
DTSTAMP:20260426T022152Z
DTSTART:20260621T070000
DTEND:20260621T180000
SUMMARY:ADSL — Brocante
DESCRIPTION:Dimanche 21 Juin 2026\nde 7h00 à 18h00\n\nADSL\n62170 Campigne
 ulles Les Grandes
LOCATION:62170 Campigneulles Les Grandes
URL:https://bradeur.fr/braderie.php?slug=adsl-brocante
END:VEVENT
END:VCALENDAR
