BEGIN:VCALENDAR
VERSION:2.0
PRODID:-//Bradeur.fr//FR
CALSCALE:GREGORIAN
METHOD:PUBLISH
BEGIN:VEVENT
UID:533-afa-association-des-familles-vide-greniers@bradeur.fr
DTSTAMP:20260425T180717Z
DTSTART:20260328T090000
DTEND:20260328T170000
SUMMARY:AFA association des familles — Vide-greniers
DESCRIPTION:Découvrez l'Association des familles d'Armentières, du jeune 
 foyer à la famille nombreuse. Bienvenue !\n\nSamedi 28 Mars 2026\nde 9h00 
 à 17h00\n\nAFA association des familles\n59280 Armentieres
LOCATION:59280 Armentieres
URL:https://bradeur.fr/braderie.php?slug=afa-association-des-familles-vide-
 greniers
END:VEVENT
END:VCALENDAR
