BEGIN:VCALENDAR
VERSION:2.0
PRODID:-//Bradeur.fr//FR
CALSCALE:GREGORIAN
METHOD:PUBLISH
BEGIN:VEVENT
UID:544-affleurbaix-orange-fr-vetements@bradeur.fr
DTSTAMP:20260425T180226Z
DTSTART:20260328T090000
DTEND:20260328T130000
SUMMARY:affleurbaix@orange.fr — Vêtements
DESCRIPTION:L’Association Familiale de Fleurbaix organise les loisirs pou
 r vos enfants, le baby-gym, des ateliers parent-enfant, des vide-dressing, 
 bourse aux jouets, la brocante du 8 mai et des ateliers de travaux d'aiguil
 les\n\nSamedi 28 Mars 2026\nde 9h00 à 13h00\n\naffleurbaix@orange.fr\n6284
 0 Fleurbaix
LOCATION:62840 Fleurbaix
URL:https://bradeur.fr/braderie.php?slug=affleurbaix-orange-fr-vetements
END:VEVENT
END:VCALENDAR
