BEGIN:VCALENDAR
VERSION:2.0
PRODID:-//Bradeur.fr//FR
CALSCALE:GREGORIAN
METHOD:PUBLISH
BEGIN:VEVENT
UID:554-afmacs-afmacs-enfant@bradeur.fr
DTSTAMP:20260425T180343Z
DTSTART:20260329T090000
DTEND:20260329T160000
SUMMARY:AFMACS — Afmacs Enfant
DESCRIPTION:Dimanche 29 Mars 2026\nde 9h00 à 16h00\n\nAFMACS\n59430 Fort M
 ardyck
LOCATION:59430 Fort Mardyck
URL:https://bradeur.fr/braderie.php?slug=afmacs-afmacs-enfant
END:VEVENT
END:VCALENDAR
