BEGIN:VCALENDAR
VERSION:2.0
PRODID:-//Bradeur.fr//FR
CALSCALE:GREGORIAN
METHOD:PUBLISH
BEGIN:VEVENT
UID:487-afv-association-des-familles-vetements@bradeur.fr
DTSTAMP:20260425T180717Z
DTSTART:20260314T100000
DTEND:20260314T160000
SUMMARY:AFV association des familles — Vêtements
DESCRIPTION:Commune-Ville-Collectivité\n\nSamedi 14 Mars 2026\nde 10h00 à
  16h00\n\nAFV association des familles\n59237 Verlinghem
LOCATION:59237 Verlinghem
URL:https://bradeur.fr/braderie.php?slug=afv-association-des-familles-vetem
 ents
END:VEVENT
END:VCALENDAR
