BEGIN:VCALENDAR
VERSION:2.0
PRODID:-//Bradeur.fr//FR
CALSCALE:GREGORIAN
METHOD:PUBLISH
BEGIN:VEVENT
UID:942-aicm-puces@bradeur.fr
DTSTAMP:20260426T043911Z
DTSTART:20260607T070000
DTEND:20260607T160000
SUMMARY:AICM — Puces
DESCRIPTION:Dimanche 7 Juin 2026\nde 7h00 à 16h00\n\nAICM\n62710 Courriere
 s
LOCATION:62710 Courrieres
URL:https://bradeur.fr/braderie.php?slug=aicm-puces
END:VEVENT
END:VCALENDAR
