BEGIN:VCALENDAR
VERSION:2.0
PRODID:-//Bradeur.fr//FR
CALSCALE:GREGORIAN
METHOD:PUBLISH
BEGIN:VEVENT
UID:680-aicm-vide-greniers-1@bradeur.fr
DTSTAMP:20260425T180016Z
DTSTART:20260412T083000
DTEND:20260412T170000
SUMMARY:AICM — Vide-greniers
DESCRIPTION:Bienvenue sur le site internet de la ville de Oignies. Retrouve
 z toutes les actualités de la ville, les services, associations et commerc
 es de la ville.\n\nDimanche 12 Avril 2026\nde 8h30 à 17h00\n\nAICM\n62590 
 Oignies
LOCATION:62590 Oignies
URL:https://bradeur.fr/braderie.php?slug=aicm-vide-greniers-1
END:VEVENT
END:VCALENDAR
