BEGIN:VCALENDAR
VERSION:2.0
PRODID:-//Bradeur.fr//FR
CALSCALE:GREGORIAN
METHOD:PUBLISH
BEGIN:VEVENT
UID:860-aixe-choregraphie-vide-greniers@bradeur.fr
DTSTAMP:20260425T190901Z
DTSTART:20260514T080000
DTEND:20260514T180000
SUMMARY:Aixe Chorégraphie — Vide-greniers
DESCRIPTION:Site du club de Twirling Baton de Aixe Chorégraphie\n\nJeudi 1
 4 Mai 2026\nde 8h00 à 18h00\n\nAixe Chorégraphie\n87700 Aixe Sur Vienne
LOCATION:87700 Aixe Sur Vienne
URL:https://bradeur.fr/braderie.php?slug=aixe-choregraphie-vide-greniers
END:VEVENT
END:VCALENDAR
