BEGIN:VCALENDAR
VERSION:2.0
PRODID:-//Bradeur.fr//FR
CALSCALE:GREGORIAN
METHOD:PUBLISH
BEGIN:VEVENT
UID:714-amicale-des-oiseaux-et-des-festivites-locales-puces@bradeur.fr
DTSTAMP:20260426T032809Z
DTSTART:20260419T080000
DTEND:20260419T180000
SUMMARY:amicale des oiseaux et des festivités locales — Puces
DESCRIPTION:Ville d'Haillicourt | SUIVEZ LES ACTUALITÉS DE LA VILLE SUR NO
 TRE PAGE FACEBOOK ET NOS PANNEAUX D'INFORMATION !\n\nDimanche 19 Avril 2026
 \nde 8h00 à 18h00\n\namicale des oiseaux et des festivités locales\n62940
  Haillicourt
LOCATION:62940 Haillicourt
URL:https://bradeur.fr/braderie.php?slug=amicale-des-oiseaux-et-des-festivi
 tes-locales-puces
END:VEVENT
END:VCALENDAR
