BEGIN:VCALENDAR
VERSION:2.0
PRODID:-//Bradeur.fr//FR
CALSCALE:GREGORIAN
METHOD:PUBLISH
BEGIN:VEVENT
UID:1101-amicale-des-oiseaux-et-des-festivites-locales-puces-1@bradeur.fr
DTSTAMP:20260425T180840Z
DTSTART:20261004T080000
DTEND:20261004T180000
SUMMARY:amicale des oiseaux et des festivités locales — Puces
DESCRIPTION:Ville d'Haillicourt | SUIVEZ LES ACTUALITÉS DE LA VILLE SUR NO
 TRE PAGE FACEBOOK ET NOS PANNEAUX D'INFORMATION !\n\nDimanche 4 Octobre 202
 6\nde 8h00 à 18h00\n\namicale des oiseaux et des festivités locales\n6294
 0 Haillicourt
LOCATION:62940 Haillicourt
URL:https://bradeur.fr/braderie.php?slug=amicale-des-oiseaux-et-des-festivi
 tes-locales-puces-1
END:VEVENT
END:VCALENDAR
