BEGIN:VCALENDAR
VERSION:2.0
PRODID:-//Bradeur.fr//FR
CALSCALE:GREGORIAN
METHOD:PUBLISH
BEGIN:VEVENT
UID:1059-amicale-du-personnel-communal-brocante-1@bradeur.fr
DTSTAMP:20260425T210402Z
DTSTART:20260830T063000
DTEND:20260830T183000
SUMMARY:Amicale du Personnel Communal — Brocante
DESCRIPTION:Dimanche 30 Août 2026\nde 6h30 à 18h30\n\nAmicale du Personne
 l Communal\n59550 Landrecies
LOCATION:59550 Landrecies
URL:https://bradeur.fr/braderie.php?slug=amicale-du-personnel-communal-broc
 ante-1
END:VEVENT
END:VCALENDAR
