BEGIN:VCALENDAR
VERSION:2.0
PRODID:-//Bradeur.fr//FR
CALSCALE:GREGORIAN
METHOD:PUBLISH
BEGIN:VEVENT
UID:716-amicale-du-personnel-communal-de-gouy-sous-bellonne-brocante@bradeu
 r.fr
DTSTAMP:20260426T000622Z
DTSTART:20260419T080000
DTEND:20260419T130000
SUMMARY:Amicale du Personnel Communal de Gouy sous Bellonne — Brocante
DESCRIPTION:Dimanche 19 Avril 2026\nde 8h00 à 13h00\n\nAmicale du Personne
 l Communal de Gouy sous Bellonne\n62112 Gouy Sous Bellonne
LOCATION:62112 Gouy Sous Bellonne
URL:https://bradeur.fr/braderie.php?slug=amicale-du-personnel-communal-de-g
 ouy-sous-bellonne-brocante
END:VEVENT
END:VCALENDAR
