BEGIN:VCALENDAR
VERSION:2.0
PRODID:-//Bradeur.fr//FR
CALSCALE:GREGORIAN
METHOD:PUBLISH
BEGIN:VEVENT
UID:747-amicale-laique-d-houchin-puces@bradeur.fr
DTSTAMP:20260425T235148Z
DTSTART:20260426T080000
DTEND:20260426T180000
SUMMARY:Amicale Laique d'Houchin — Puces
DESCRIPTION:Je vous souhaite la bienvenue sur notre site « communedehouc
 hin.fr » . Vous êtes nombreux à le consulter et j’espère que vous y
  trouvez réponse à vos questions, à votre curiosité, à vos besoins en 
 renseignements. Notre Commune a souhaité créer son propre site internet, 
 se donnant ainsi les moyens d’une communication active et réactive qui r
 éponde aux besoins des citoyens en matière d’informations.
LOCATION:62620 Houchin
URL:https://bradeur.fr/braderie.php?slug=amicale-laique-d-houchin-puces
END:VEVENT
END:VCALENDAR
