BEGIN:VCALENDAR
VERSION:2.0
PRODID:-//Bradeur.fr//FR
CALSCALE:GREGORIAN
METHOD:PUBLISH
BEGIN:VEVENT
UID:561-amicale-laique-de-louvil-vide-greniers@bradeur.fr
DTSTAMP:20260425T180416Z
DTSTART:20260329T080000
DTEND:20260329T130000
SUMMARY:Amicale Laique de Louvil — Vide-greniers
DESCRIPTION:Dimanche 29 Mars 2026\nde 8h00 à 13h00\n\nAmicale Laique de Lo
 uvil\n59830 Louvil
LOCATION:59830 Louvil
URL:https://bradeur.fr/braderie.php?slug=amicale-laique-de-louvil-vide-gren
 iers
END:VEVENT
END:VCALENDAR
