BEGIN:VCALENDAR
VERSION:2.0
PRODID:-//Bradeur.fr//FR
CALSCALE:GREGORIAN
METHOD:PUBLISH
BEGIN:VEVENT
UID:502-amicale-laique-henri-matisse-al-henri-matisse-enfant@bradeur.fr
DTSTAMP:20260425T182027Z
DTSTART:20260315T073000
DTEND:20260315T130000
SUMMARY:Amicale Laïque " Henri Matisse " — Al Henri Matisse Enfant
DESCRIPTION:Dimanche 15 Mars 2026\nde 7h30 à 13h00\n\nAmicale Laïque " He
 nri Matisse "\n59221 Santes
LOCATION:59221 Santes
URL:https://bradeur.fr/braderie.php?slug=amicale-laique-henri-matisse-al-he
 nri-matisse-enfant
END:VEVENT
END:VCALENDAR
