BEGIN:VCALENDAR
VERSION:2.0
PRODID:-//Bradeur.fr//FR
CALSCALE:GREGORIAN
METHOD:PUBLISH
BEGIN:VEVENT
UID:872-amicale-laique-pasteur-jean-jaures-vide-greniers@bradeur.fr
DTSTAMP:20260425T205518Z
DTSTART:20260517T080000
DTEND:20260517T150000
SUMMARY:Amicale Laique Pasteur Jean Jaurès — Vide-greniers
DESCRIPTION:Dimanche 17 Mai 2026\nde 8h00 à 15h00\n\nAmicale Laique Pasteu
 r Jean Jaurès\n59650 Villeneuve D'ascq
LOCATION:59650 Villeneuve D'ascq
URL:https://bradeur.fr/braderie.php?slug=amicale-laique-pasteur-jean-jaures
 -vide-greniers
END:VEVENT
END:VCALENDAR
