BEGIN:VCALENDAR
VERSION:2.0
PRODID:-//Bradeur.fr//FR
CALSCALE:GREGORIAN
METHOD:PUBLISH
BEGIN:VEVENT
UID:725-aosc-football-sallaumines-braderie@bradeur.fr
DTSTAMP:20260425T194526Z
DTSTART:20260425T100000
DTEND:20260425T170000
SUMMARY:AOSC football Sallaumines — Braderie
DESCRIPTION:Bienvenue sur le site officiel du club AOSC SALLAUMINES. Retrou
 vez toute l'actualité, le calendrier et les résultats des équipes, ainsi
  que toute la vie du club.\n\nSamedi 25 Avril 2026\nde 10h00 à 17h00\n\nAO
 SC football Sallaumines\n62430 Sallaumines
LOCATION:62430 Sallaumines
URL:https://bradeur.fr/braderie.php?slug=aosc-football-sallaumines-braderie
END:VEVENT
END:VCALENDAR
