BEGIN:VCALENDAR
VERSION:2.0
PRODID:-//Bradeur.fr//FR
CALSCALE:GREGORIAN
METHOD:PUBLISH
BEGIN:VEVENT
UID:583-ape-ape-enfant@bradeur.fr
DTSTAMP:20260425T180123Z
DTSTART:20260329T080000
DTEND:20260329T170000
SUMMARY:APE — Ape Enfant
DESCRIPTION:Dimanche 29 Mars 2026\nde 8h00 à 17h00\n\nAPE\n62120 Quiestede
LOCATION:62120 Quiestede
URL:https://bradeur.fr/braderie.php?slug=ape-ape-enfant
END:VEVENT
END:VCALENDAR
