BEGIN:VCALENDAR
VERSION:2.0
PRODID:-//Bradeur.fr//FR
CALSCALE:GREGORIAN
METHOD:PUBLISH
BEGIN:VEVENT
UID:494-ape-boris-vian-vide-greniers@bradeur.fr
DTSTAMP:20260425T180258Z
DTSTART:20260314T090000
DTEND:20260314T130000
SUMMARY:APE " Boris Vian " — Vide-greniers
DESCRIPTION:Samedi 14 Mars 2026\nde 9h00 à 13h00\n\nAPE " Boris Vian "\n62
 220 Carvin
LOCATION:62220 Carvin
URL:https://bradeur.fr/braderie.php?slug=ape-boris-vian-vide-greniers
END:VEVENT
END:VCALENDAR
