BEGIN:VCALENDAR
VERSION:2.0
PRODID:-//Bradeur.fr//FR
CALSCALE:GREGORIAN
METHOD:PUBLISH
BEGIN:VEVENT
UID:657-ape-brocante@bradeur.fr
DTSTAMP:20260425T204359Z
DTSTART:20260412T073000
DTEND:20260412T153000
SUMMARY:APE — Brocante
DESCRIPTION:Dimanche 12 Avril 2026\nde 7h30 à 15h30\n\nAPE\n59380 Crochte
LOCATION:59380 Crochte
URL:https://bradeur.fr/braderie.php?slug=ape-brocante
END:VEVENT
END:VCALENDAR
