BEGIN:VCALENDAR
VERSION:2.0
PRODID:-//Bradeur.fr//FR
CALSCALE:GREGORIAN
METHOD:PUBLISH
BEGIN:VEVENT
UID:813-ape-charles-de-gaulle-braderie@bradeur.fr
DTSTAMP:20260425T194125Z
DTSTART:20260508T080000
DTEND:20260508T160000
SUMMARY:APE " Charles de Gaulle " — Braderie
DESCRIPTION:Bienvenue sur le site officielle de la Ville de Wasquehal. Info
 rmations pratiques, démarches en ligne, actualités vous y attendent !\n\n
 Vendredi 8 Mai 2026\nde 8h00 à 16h00\n\nAPE " Charles de Gaulle "\n59290 W
 asquehal
LOCATION:59290 Wasquehal
URL:https://bradeur.fr/braderie.php?slug=ape-charles-de-gaulle-braderie
END:VEVENT
END:VCALENDAR
