BEGIN:VCALENDAR
VERSION:2.0
PRODID:-//Bradeur.fr//FR
CALSCALE:GREGORIAN
METHOD:PUBLISH
BEGIN:VEVENT
UID:650-ape-college-blaise-pascal-brocante@bradeur.fr
DTSTAMP:20260425T204737Z
DTSTART:20260411T080000
DTEND:20260411T150000
SUMMARY:APE Collège " BLaise Pascal " — Brocante
DESCRIPTION:Samedi 11 Avril 2026\nde 8h00 à 15h00\n\nAPE Collège " BLaise
  Pascal "\n62670 Mazingarbe
LOCATION:62670 Mazingarbe
URL:https://bradeur.fr/braderie.php?slug=ape-college-blaise-pascal-brocante
END:VEVENT
END:VCALENDAR
