BEGIN:VCALENDAR
VERSION:2.0
PRODID:-//Bradeur.fr//FR
CALSCALE:GREGORIAN
METHOD:PUBLISH
BEGIN:VEVENT
UID:676-ape-college-leonard-de-vinci-puces@bradeur.fr
DTSTAMP:20260425T220707Z
DTSTART:20260412T080000
DTEND:20260412T150000
SUMMARY:APE College " Leonard De Vinci " — Puces
DESCRIPTION:Dimanche 12 Avril 2026\nde 8h00 à 15h00\n\nAPE College " Leona
 rd De Vinci "\n62220 Carvin
LOCATION:62220 Carvin
URL:https://bradeur.fr/braderie.php?slug=ape-college-leonard-de-vinci-puces
END:VEVENT
END:VCALENDAR
