BEGIN:VCALENDAR
VERSION:2.0
PRODID:-//Bradeur.fr//FR
CALSCALE:GREGORIAN
METHOD:PUBLISH
BEGIN:VEVENT
UID:721-ape-de-lasseube-vide-greniers@bradeur.fr
DTSTAMP:20260425T180318Z
DTSTART:20260419T083000
DTEND:20260419T170000
SUMMARY:APE de Lasseube — Vide-greniers
DESCRIPTION:Lasseube (en béarnais La Seuva ou La Séube) est une commune f
 rançaise, située dans le département des Pyrénées-Atlantiques en régi
 on Nouvelle-Aquitaine.\n\nDimanche 19 Avril 2026\nde 8h30 à 17h00\n\nAPE d
 e Lasseube\n64290 Lasseube
LOCATION:64290 Lasseube
URL:https://bradeur.fr/braderie.php?slug=ape-de-lasseube-vide-greniers
END:VEVENT
END:VCALENDAR
