BEGIN:VCALENDAR
VERSION:2.0
PRODID:-//Bradeur.fr//FR
CALSCALE:GREGORIAN
METHOD:PUBLISH
BEGIN:VEVENT
UID:598-ape-des-verts-monts-brocante@bradeur.fr
DTSTAMP:20260425T180548Z
DTSTART:20260404T080000
DTEND:20260404T150000
SUMMARY:APE des Verts Monts — Brocante
DESCRIPTION:Samedi 4 Avril 2026\nde 8h00 à 15h00\n\nAPE des Verts Monts\n6
 2153 Ablain Saint Nazaire
LOCATION:62153 Ablain Saint Nazaire
URL:https://bradeur.fr/braderie.php?slug=ape-des-verts-monts-brocante
END:VEVENT
END:VCALENDAR
