BEGIN:VCALENDAR
VERSION:2.0
PRODID:-//Bradeur.fr//FR
CALSCALE:GREGORIAN
METHOD:PUBLISH
BEGIN:VEVENT
UID:564-ape-desmoulins-mouchin-gmail-com-ape-camille-desmoulins-enfant@brad
 eur.fr
DTSTAMP:20260425T181004Z
DTSTART:20260329T090000
DTEND:20260329T130000
SUMMARY:ape.desmoulins.mouchin@gmail.com — Ape Camille Desmoulins Enfant
DESCRIPTION:Bienvenue sur le site de la mairie de Mouchin, dans le Nord (59
 ), au coeur de la Pévèle. La commune de Mouchin dépend de la Communauté
  de communes Pévèle-Carembault.\n\nDimanche 29 Mars 2026\nde 9h00 à 13h0
 0\n\nape.desmoulins.mouchin@gmail.com\n59310 Mouchin
LOCATION:59310 Mouchin
URL:https://bradeur.fr/braderie.php?slug=ape-desmoulins-mouchin-gmail-com-a
 pe-camille-desmoulins-enfant
END:VEVENT
END:VCALENDAR
