BEGIN:VCALENDAR
VERSION:2.0
PRODID:-//Bradeur.fr//FR
CALSCALE:GREGORIAN
METHOD:PUBLISH
BEGIN:VEVENT
UID:518-ape-du-college-joliot-curie-vide-greniers@bradeur.fr
DTSTAMP:20260425T180724Z
DTSTART:20260321T090000
DTEND:20260321T170000
SUMMARY:APE du collège " Joliot Curie " — Vide-greniers
DESCRIPTION:Objet de l'association : « de regrouper l'ensemble des parent
 s d'élèves de l'établissement scolaire, de formuler en leur nom des voeu
 x sur tout objet concernant les intérêts moraux et matériels de l'établ
 issement scolaire, des élèves qui le fréquentent ou de leurs parents, d'
 en suivre la réalisation et de veiller à leur application »(déclaratio
 n de l’association des parents d’élèves en préfecture 
LOCATION:62138 Auchy Les Mines
URL:https://bradeur.fr/braderie.php?slug=ape-du-college-joliot-curie-vide-g
 reniers
END:VEVENT
END:VCALENDAR
