BEGIN:VCALENDAR
VERSION:2.0
PRODID:-//Bradeur.fr//FR
CALSCALE:GREGORIAN
METHOD:PUBLISH
BEGIN:VEVENT
UID:693-ape-extra-chouette-ape-extra-chouette-geek@bradeur.fr
DTSTAMP:20260425T180416Z
DTSTART:20260418T100000
DTEND:20260419T180000
SUMMARY:Ape Extra Chouette — Ape Extra Chouette Geek
DESCRIPTION:Samedi 18 Avril 2026\nde 10h00 à 18h00\n\nDimanche 19 Avril 20
 26\nde 10h00 à 18h00\n\nApe Extra Chouette\n59216 Sars Poteries
LOCATION:59216 Sars Poteries
URL:https://bradeur.fr/braderie.php?slug=ape-extra-chouette-ape-extra-choue
 tte-geek
END:VEVENT
END:VCALENDAR
