BEGIN:VCALENDAR
VERSION:2.0
PRODID:-//Bradeur.fr//FR
CALSCALE:GREGORIAN
METHOD:PUBLISH
BEGIN:VEVENT
UID:631-ape-jules-michelet-braderie@bradeur.fr
DTSTAMP:20260425T180133Z
DTSTART:20260411T070000
DTEND:20260411T150000
SUMMARY:APE Jules Michelet — Braderie
DESCRIPTION:Notre ville en grand projets Skatepark / Pumptrack Halluin vill
 e d’avenir Découvrir ce projet Découvrir tous les projets Le prochain c
 onseil municipal | 19 novembre 2024 Compte rendu du conseil municipal La mu
 nicipalité à votre écoute Halluin J’écoute03.20.05.92.50 Police Munic
 ipale03.20.28.26.26 Navette Seniors06.07.09.33.09 HALLUIN en lumières Nos 
 clubs sportifs Nos associations Nos commerçants 
LOCATION:59250 Halluin
URL:https://bradeur.fr/braderie.php?slug=ape-jules-michelet-braderie
END:VEVENT
END:VCALENDAR
