BEGIN:VCALENDAR
VERSION:2.0
PRODID:-//Bradeur.fr//FR
CALSCALE:GREGORIAN
METHOD:PUBLISH
BEGIN:VEVENT
UID:834-ape-lelugras-yahoo-com-braderie@bradeur.fr
DTSTAMP:20260425T193654Z
DTSTART:20260510T073000
DTEND:20260510T133000
SUMMARY:ape.lelugras@yahoo.com — Braderie
DESCRIPTION:Dimanche 10 Mai 2026\nde 7h30 à 13h30\n\nape.lelugras@yahoo.co
 m\n59178 Bousignies
LOCATION:59178 Bousignies
URL:https://bradeur.fr/braderie.php?slug=ape-lelugras-yahoo-com-braderie
END:VEVENT
END:VCALENDAR
