BEGIN:VCALENDAR
VERSION:2.0
PRODID:-//Bradeur.fr//FR
CALSCALE:GREGORIAN
METHOD:PUBLISH
BEGIN:VEVENT
UID:646-ape-les-ptits-bambins-ape-les-petits-bambins-enfant@bradeur.fr
DTSTAMP:20260425T180835Z
DTSTART:20260411T090000
DTEND:20260411T160000
SUMMARY:APE les ptits bambins — Ape Les Petits Bambins Enfant
DESCRIPTION:Samedi 11 Avril 2026\nde 9h00 à 16h00\n\nAPE les ptits bambins
 \n62141 Evin Malmaison
LOCATION:62141 Evin Malmaison
URL:https://bradeur.fr/braderie.php?slug=ape-les-ptits-bambins-ape-les-peti
 ts-bambins-enfant
END:VEVENT
END:VCALENDAR
