BEGIN:VCALENDAR
VERSION:2.0
PRODID:-//Bradeur.fr//FR
CALSCALE:GREGORIAN
METHOD:PUBLISH
BEGIN:VEVENT
UID:654-ape-les-tillonnais-vide-greniers@bradeur.fr
DTSTAMP:20260425T180508Z
DTSTART:20260411T090000
DTEND:20260411T170000
SUMMARY:APE Les Tillonnais — Vide-greniers
DESCRIPTION:Découvrez le site officiel de Nantes Métropole et de la Ville
  de Nantes. Toutes les informations sur nos activités et services !\n\nSam
 edi 11 Avril 2026\nde 9h00 à 17h00\n\nAPE Les Tillonnais\n44000 Nantes
LOCATION:44000 Nantes
URL:https://bradeur.fr/braderie.php?slug=ape-les-tillonnais-vide-greniers
END:VEVENT
END:VCALENDAR
