BEGIN:VCALENDAR
VERSION:2.0
PRODID:-//Bradeur.fr//FR
CALSCALE:GREGORIAN
METHOD:PUBLISH
BEGIN:VEVENT
UID:885-ape-paul-langevin-ape-paul-langevin-enfant@bradeur.fr
DTSTAMP:20260425T180857Z
DTSTART:20260523T083000
DTEND:20260523T130000
SUMMARY:APE Paul Langevin — Ape Paul Langevin Enfant
DESCRIPTION:Le site de la ville de Harnes : Agenda / Démarches / Services\
 n\nSamedi 23 Mai 2026\nde 8h30 à 13h00\n\nAPE Paul Langevin\n62440 Harnes
LOCATION:62440 Harnes
URL:https://bradeur.fr/braderie.php?slug=ape-paul-langevin-ape-paul-langevi
 n-enfant
END:VEVENT
END:VCALENDAR
