BEGIN:VCALENDAR
VERSION:2.0
PRODID:-//Bradeur.fr//FR
CALSCALE:GREGORIAN
METHOD:PUBLISH
BEGIN:VEVENT
UID:566-ape-pauline-kergomard-enfant-a-roncq@bradeur.fr
DTSTAMP:20260425T180724Z
DTSTART:20260329T083000
DTEND:20260329T130000
SUMMARY:Ape Pauline Kergomard Enfant à Roncq
DESCRIPTION:Dimanche 29 Mars 2026\nde 8h30 à 13h00\n\n59223 Roncq
LOCATION:59223 Roncq
URL:https://bradeur.fr/braderie.php?slug=ape-pauline-kergomard-enfant-a-ron
 cq
END:VEVENT
END:VCALENDAR
