BEGIN:VCALENDAR
VERSION:2.0
PRODID:-//Bradeur.fr//FR
CALSCALE:GREGORIAN
METHOD:PUBLISH
BEGIN:VEVENT
UID:643-ape-peri-curie-puces@bradeur.fr
DTSTAMP:20260425T204905Z
DTSTART:20260411T073000
DTEND:20260411T160000
SUMMARY:APE Péri Curie — Puces
DESCRIPTION:Bienvenue à Annay-sous-Lens Annay-sous-Lens, commune du Pas-de
 -Calais, se distingue par son riche patrimoine et sa convivialité. Située
  à proximité de Lens, elle offre un cadre de vie agréable avec des espac
 es verts et une vie locale dynamique. Search … Recherches populaires Tous
  les résultats Bienvenue à Annay-sous-Lens Annay-sous-Lens, commune du Pa
 s-de-Calais, se distingue par son […]\n\nSamedi 1
LOCATION:62880 Annay
URL:https://bradeur.fr/braderie.php?slug=ape-peri-curie-puces
END:VEVENT
END:VCALENDAR
