BEGIN:VCALENDAR
VERSION:2.0
PRODID:-//Bradeur.fr//FR
CALSCALE:GREGORIAN
METHOD:PUBLISH
BEGIN:VEVENT
UID:593-ape-taine-braderie@bradeur.fr
DTSTAMP:20260425T180006Z
DTSTART:20260404T100000
DTEND:20260404T170000
SUMMARY:APE Taine — Braderie
DESCRIPTION:Samedi 4 Avril 2026\nde 10h00 à 17h00\n\nAPE Taine\n59650 Vill
 eneuve D'ascq
LOCATION:59650 Villeneuve D'ascq
URL:https://bradeur.fr/braderie.php?slug=ape-taine-braderie
END:VEVENT
END:VCALENDAR
