BEGIN:VCALENDAR
VERSION:2.0
PRODID:-//Bradeur.fr//FR
CALSCALE:GREGORIAN
METHOD:PUBLISH
BEGIN:VEVENT
UID:499-ape-ullmann-perrault-00-00-00-00-00-brocante@bradeur.fr
DTSTAMP:20260425T180730Z
DTSTART:20260314T090000
DTEND:20260315T170000
SUMMARY:APE Ullmann Perrault 00 00 00 00 00 — Brocante
DESCRIPTION:Bienvenue à Wizernes Bienvenue à  Wizernes Search … Résu
 ltats Voir tous les résultats Vos Démarches Restaurant Scolaire Urbanisme
  Conseil Municipal Wizernes, tout simplement ! Entre ville et campagne, Wiz
 ernes s’étend sur […]\n\nSamedi 14 Mars 2026\nde 9h00 à 17h00\n\nDima
 nche 15 Mars 2026\nde 9h00 à 17h00\n\nAPE Ullmann Perrault 00 00 00 00 00\
 n62570 Wizernes
LOCATION:62570 Wizernes
URL:https://bradeur.fr/braderie.php?slug=ape-ullmann-perrault-00-00-00-00-0
 0-brocante
END:VEVENT
END:VCALENDAR
