BEGIN:VCALENDAR
VERSION:2.0
PRODID:-//Bradeur.fr//FR
CALSCALE:GREGORIAN
METHOD:PUBLISH
BEGIN:VEVENT
UID:570-apeb-bugnicourt-gmail-com-apeb-auto-moto@bradeur.fr
DTSTAMP:20260425T180052Z
DTSTART:20260329T090000
DTEND:20260329T180000
SUMMARY:apeb.bugnicourt@gmail.com — Apeb Auto Moto
DESCRIPTION:Dimanche 29 Mars 2026\nde 9h00 à 18h00\n\napeb.bugnicourt@gmai
 l.com\n59151 Bugnicourt
LOCATION:59151 Bugnicourt
URL:https://bradeur.fr/braderie.php?slug=apeb-bugnicourt-gmail-com-apeb-aut
 o-moto
END:VEVENT
END:VCALENDAR
