BEGIN:VCALENDAR
VERSION:2.0
PRODID:-//Bradeur.fr//FR
CALSCALE:GREGORIAN
METHOD:PUBLISH
BEGIN:VEVENT
UID:519-apeeb-enfant-a-hauteville@bradeur.fr
DTSTAMP:20260425T180549Z
DTSTART:20260321T090000
DTEND:20260321T160000
SUMMARY:Apeeb Enfant à Hauteville
DESCRIPTION:Samedi 21 Mars 2026\nde 9h00 à 16h00\n\n62810 Hauteville
LOCATION:62810 Hauteville
URL:https://bradeur.fr/braderie.php?slug=apeeb-enfant-a-hauteville
END:VEVENT
END:VCALENDAR
