BEGIN:VCALENDAR
VERSION:2.0
PRODID:-//Bradeur.fr//FR
CALSCALE:GREGORIAN
METHOD:PUBLISH
BEGIN:VEVENT
UID:503-apeem-brocante@bradeur.fr
DTSTAMP:20260425T175954Z
DTSTART:20260315T093000
DTEND:20260315T170000
SUMMARY:APEEM — Brocante
DESCRIPTION:Dimanche 15 Mars 2026\nde 9h30 à 17h00\n\nAPEEM\n62620 Maisnil
  Les Ruitz
LOCATION:62620 Maisnil Les Ruitz
URL:https://bradeur.fr/braderie.php?slug=apeem-brocante
END:VEVENT
END:VCALENDAR
