BEGIN:VCALENDAR
VERSION:2.0
PRODID:-//Bradeur.fr//FR
CALSCALE:GREGORIAN
METHOD:PUBLISH
BEGIN:VEVENT
UID:929-apef-vide-greniers@bradeur.fr
DTSTAMP:20260426T002500Z
DTSTART:20260606T080000
DTEND:20260606T170000
SUMMARY:APEF — Vide-greniers
DESCRIPTION:La mairie de Festubert a été construite entre 1923 et 1924. E
 lle est située rue de Lille, au centre du village, à proximité de l’é
 glise et de l’école Clémence Quinio. Les compétences principales de la
  mairie sont :les fonctions d’état civil : enregistrement des mariages, 
 naissances, décèsles fonctions électorales : organisation des élections
 , gestion des listes électoralesl’action sociale : gestio
LOCATION:62149 Festubert
URL:https://bradeur.fr/braderie.php?slug=apef-vide-greniers
END:VEVENT
END:VCALENDAR
