BEGIN:VCALENDAR
VERSION:2.0
PRODID:-//Bradeur.fr//FR
CALSCALE:GREGORIAN
METHOD:PUBLISH
BEGIN:VEVENT
UID:689-apeh-association-pour-les-ecoliers-d-herbeville-brocante@bradeur.fr
DTSTAMP:20260425T210555Z
DTSTART:20260412T080000
DTEND:20260412T180000
SUMMARY:APEH Association Pour les Ecoliers d'Herbeville — Brocante
DESCRIPTION:Dimanche 12 Avril 2026\nde 8h00 à 18h00\n\nAPEH Association Po
 ur les Ecoliers d'Herbeville\n78580 Herbeville
LOCATION:78580 Herbeville
URL:https://bradeur.fr/braderie.php?slug=apeh-association-pour-les-ecoliers
 -d-herbeville-brocante
END:VEVENT
END:VCALENDAR
