BEGIN:VCALENDAR
VERSION:2.0
PRODID:-//Bradeur.fr//FR
CALSCALE:GREGORIAN
METHOD:PUBLISH
BEGIN:VEVENT
UID:571-apei-ape-enfant@bradeur.fr
DTSTAMP:20260425T180227Z
DTSTART:20260329T090000
DTEND:20260329T160000
SUMMARY:APEI — Ape Enfant
DESCRIPTION:Dimanche 29 Mars 2026\nde 9h00 à 16h00\n\nAPEI\n59227 Saulzoir
LOCATION:59227 Saulzoir
URL:https://bradeur.fr/braderie.php?slug=apei-ape-enfant
END:VEVENT
END:VCALENDAR
