BEGIN:VCALENDAR
VERSION:2.0
PRODID:-//Bradeur.fr//FR
CALSCALE:GREGORIAN
METHOD:PUBLISH
BEGIN:VEVENT
UID:788-apeic-vide-greniers@bradeur.fr
DTSTAMP:20260425T204226Z
DTSTART:20260503T080000
DTEND:20260503T140000
SUMMARY:APEIC — Vide-greniers
DESCRIPTION:Site officiel de la commune de Capinghem\n\nDimanche 3 Mai 2026
 \nde 8h00 à 14h00\n\nAPEIC\n59160 Capinghem
LOCATION:59160 Capinghem
URL:https://bradeur.fr/braderie.php?slug=apeic-vide-greniers
END:VEVENT
END:VCALENDAR
